BEGIN:VCALENDAR
VERSION:2.0
PRODID:-//Filéo Info - ECPv5.3.2.1//NONSGML v1.0//EN
CALSCALE:GREGORIAN
METHOD:PUBLISH
X-WR-CALNAME:Filéo Info
X-ORIGINAL-URL:https://www.fileo.info
X-WR-CALDESC:évènements pour Filéo Info
BEGIN:VTIMEZONE
TZID:Europe/Paris
BEGIN:DAYLIGHT
TZOFFSETFROM:+0100
TZOFFSETTO:+0200
TZNAME:CEST
DTSTART:20260329T010000
END:DAYLIGHT
BEGIN:STANDARD
TZOFFSETFROM:+0200
TZOFFSETTO:+0100
TZNAME:CET
DTSTART:20261025T010000
END:STANDARD
END:VTIMEZONE
BEGIN:VEVENT
DTSTART;TZID=Europe/Paris:20260509T123000
DTEND;TZID=Europe/Paris:20260509T203000
DTSTAMP:20260420T143158
CREATED:20260202T182420Z
LAST-MODIFIED:20260202T182420Z
UID:8994-1778329800-1778358600@www.fileo.info
SUMMARY:Les 25 ans de Repère à La Bessonaz (CH-Vd)
DESCRIPTION:L’association Repère fête ses 25 ans le 9 mai 2026 : \n \n  \nInfos et inscriptions: Association Repère
URL:https://www.fileo.info/agenda/les-25-ans-de-repere-a-la-bessonaz-ch-vd/
CATEGORIES:Oeuvres
ATTACH;FMTTYPE=image/png:https://www.fileo.info/wp-content/uploads/2021/07/Repere-logo.png
END:VEVENT
END:VCALENDAR